BEGIN:VCALENDAR
VERSION:2.0
PRODID:-//Broken Arrow Sentinel - ECPv6.15.20//NONSGML v1.0//EN
CALSCALE:GREGORIAN
METHOD:PUBLISH
X-ORIGINAL-URL:https://basentinel.com
X-WR-CALDESC:Events for Broken Arrow Sentinel
REFRESH-INTERVAL;VALUE=DURATION:PT1H
X-Robots-Tag:noindex
X-PUBLISHED-TTL:PT1H
BEGIN:VTIMEZONE
TZID:America/New_York
BEGIN:DAYLIGHT
TZOFFSETFROM:-0500
TZOFFSETTO:-0400
TZNAME:EDT
DTSTART:20250309T070000
END:DAYLIGHT
BEGIN:STANDARD
TZOFFSETFROM:-0400
TZOFFSETTO:-0500
TZNAME:EST
DTSTART:20251102T060000
END:STANDARD
BEGIN:DAYLIGHT
TZOFFSETFROM:-0500
TZOFFSETTO:-0400
TZNAME:EDT
DTSTART:20260308T070000
END:DAYLIGHT
BEGIN:STANDARD
TZOFFSETFROM:-0400
TZOFFSETTO:-0500
TZNAME:EST
DTSTART:20261101T060000
END:STANDARD
BEGIN:DAYLIGHT
TZOFFSETFROM:-0500
TZOFFSETTO:-0400
TZNAME:EDT
DTSTART:20270314T070000
END:DAYLIGHT
BEGIN:STANDARD
TZOFFSETFROM:-0400
TZOFFSETTO:-0500
TZNAME:EST
DTSTART:20271107T060000
END:STANDARD
END:VTIMEZONE
BEGIN:VEVENT
DTSTART;TZID=America/New_York:20260508T180000
DTEND;TZID=America/New_York:20260509T220000
DTSTAMP:20260423T041907
CREATED:20260409T015759Z
LAST-MODIFIED:20260409T015847Z
UID:31265-1778263200-1778364000@basentinel.com
SUMMARY:Rooster Days Rodeo
DESCRIPTION:Dust off your boots and get ready for a weekend of high-energy action! The Rooster Days Rodeo is back at the Broken Arrow Round-Up Club Friday and Saturday\, May 8th and 9th\, 2026. We’re proud to be keeping this tradition alive for 67 years\, and we’d love for you to be a part of it.\n\n\n\nGates open at 6:00 PM both nights\, so come early to grab some food from our concession and find a good seat. If you have little ones\, don’t miss the Mutton Bustin’ at 7:00 PM. It’s always a crowd favorite to watch the “lil’ buckaroos” (ages 6 and under) get in on the action for a $20 entry fee. Show up early to enter! (Parents bring their own protective gear)\n\n\n\nThe main show kicks off at 8:00 PM with a full lineup of bronc riding\, bull riding\, barrel racing\, and more. Plus\, we’re thrilled to have funnyman Coy Okie Thomas bringing the laughs all night long.\n\nDon’t miss out on our huge raffles this year! We are giving away a $1\,000 Moody’s Jewelry gift card and a premium 100x felt Tony Lama hat. Raffle tickets for the gift card are $20 each\, and tickets for the hat are $10 each. Plus\, if you buy five tickets for either prize\, we’ll throw in the sixth one for free!\n\n\nWe expect this to be our biggest show yet! We’ll see you at the arena!
URL:https://basentinel.com/event/rooster-days-rodeo/
LOCATION:10505 S. 241st East Ave\, 10505 S. 241st East Ave.\, Broken Arrow\, OK\, United States
CATEGORIES:Sports
ATTACH;FMTTYPE=image/png:https://basentinel.com/wp-content/uploads/2026/04/Screenshot-at-PM.png
END:VEVENT
END:VCALENDAR